{"text_format":"1","workbook":"xlsx","n_sheets":5,"sheets":["svod","model","Лист1","Unique","nom"],"not_rendered":{"charts":0,"images":18,"macros":1,"external_links":0,"defined_names":25,"comments":0,"pivot_tables":0},"unopened":[],"bounds":{"document_bytes":16777216,"sheet_cells":100000,"rows_first":2000,"rows_last":500,"rows_between":2000,"halvings":0,"cell_chars":16384,"cell_head_chars":4096},"cells_cut":0,"cells_raw":0,"read":"whole","date_system":"1900"}

{"sheet":"svod","index":0,"n_rows":30,"n_cols":22,"rows_kept":30,"cut":false,"hidden":false,"merged":[[14,13,15,13],[14,14,15,15],[14,11,15,12],[6,3,6,4],[26,1,26,2],[18,3,18,4],[23,1,23,2],[24,1,24,2],[25,1,25,2]]}
[null,null,null,null,null,null,null,null,null,null,null,null,null,null,null,null,null,null,null,null,null,true]
[null,null,null,null,null,null,null,null,null,null,null,null,null,null,null,null,null,null,null,null,null,false]
[null,null,null,null,null,null,null,null,null,null,null,null,null,null,null,null,null,null,null,null,null,"Ribbon"]
[null,null,null,null,""]
[]
[]
[null,"Тип конструктива",null,"                     Количество"]
[]
[]
[null,"Габариты шкафа"]
[null,"Высота"]
[null,"Ширина"]
[null,"Глубина"]
[]
[null,null,null,null,null,null,null,null,null,null,null,"Артикул",null,"Номенклатура","Количество"]
[]
[]
[]
[null,null,null,"                  Количество"]
[null,{"$f":"\"Боковые панели \"&IFERROR(VLOOKUP(model!$G$2,nom!A:C,3,0),\"\")&model!$G$50","v":"Боковые панели  (в комплекте поставки)"}]
[null,{"$f":"\"Вертикальный профиль\"&model!$H$50","v":"Вертикальный профиль (в комплекте поставки)"}]
[null,{"$f":"\"Вертикальный П-образный профиль\"&model!$I$50","v":"Вертикальный П-образный профиль (в комплекте поставки)"}]
[null,"Монтажные платы, толщина:",null,"                  1мм","    2,5мм"]
[null,{"$f":"IFERROR(\"Высота платы \"&VLOOKUP(model!$J$2,nom!A:C,3,0)&\" мм\",\"\")","v":""}]
[null,{"$f":"IFERROR(\"Высота платы \"&VLOOKUP(model!$K$2,nom!A:C,3,0)&\" мм\",\"\")","v":""}]
[null,{"$f":"IFERROR(\"Высота платы \"&VLOOKUP(model!$L$2,nom!A:C,3,0)&\" мм\",\"\")","v":""}]
[null,{"$f":"IFERROR(\"Высота платы \"&VLOOKUP(model!$P$2,nom!A:C,3,0)&\" мм\",\"\")","v":""}]
[null,{"$f":"\"Рейки монтажные\"&model!$Q$50","v":"Рейки монтажные (в комплекте поставки)"}]
[null,{"$f":"\"Панели под ППН\"&model!$R$50","v":"Панели под ППН (в комплекте поставки)"}]
[null,{"$f":"\"Цоколь\"&model!$S$50","v":"Цоколь (в комплекте поставки)"}]

{"sheet":"model","index":1,"n_rows":50,"n_cols":27,"rows_kept":50,"cut":false,"hidden":true,"merged":[]}
["Model",null,"Высота","Ширина","Глубина","Каркас","Боковые панели","Вертикальный профиль","Вертикальный П-образный профиль","Монтажные платы1","Монтажные платы2","Монтажные платы3","Монтажные платы4","Монтажные платы5","Монтажные платы6","Монтажные платы7","Рейки монтажные","Панели под ППН","Цоколь",null,"Model","N",null,"N","Кол-ва","Артикул","Цвет"]
[{"$f":"INDEX(Unique!$A$2:$B$10,MATCH(B3,Unique!$B$2:$B$10,0),1)","v":"-"},1,{"$f":"INDEX(Unique!$C$2:$D$5,MATCH(C3,Unique!$D$2:$D$5,0),1)","v":"-"},{"$f":"INDEX(Unique!$E$2:$F$5,MATCH(D3,Unique!$F$2:$F$5,0),1)","v":"-"},{"$f":"INDEX(Unique!$G$2:$H$5,MATCH(E3,Unique!$H$2:$H$5,0),1)","v":"-"},{"$f":"IFERROR(INDEX(Unique!$I$2:$J$21,MATCH(F3,Unique!$J$2:$J$21,0),1),0)","v":"-"},{"$f":"IFERROR(INDEX(Unique!$K$2:$L$21,MATCH(G3,Unique!$L$2:$L$21,0),1),0)","v":"-"},{"$f":"INDEX(Unique!$M$2:$N$5,MATCH(H3,Unique!$N$2:$N$5,0),1)","v":"-"},{"$f":"IFERROR(INDEX(Unique!$O$2:$P$5,MATCH(I3,Unique!$P$2:$P$5,0),1),0)","v":"-"},{"$f":"IFERROR(INDEX(Unique!$Q$2:$R$5,MATCH(J3,Unique!$R$2:$R$5,0),1),0)","v":"-"},{"$f":"IFERROR(INDEX(Unique!$S$2:$T$5,MATCH(K3,Unique!$T$2:$T$5,0),1),0)","v":"-"},{"$f":"IFERROR(INDEX(Unique!$U$2:$V$5,MATCH(L3,Unique!$V$2:$V$5,0),1),0)","v":"-"},{"$f":"IFERROR(INDEX(Unique!$W$2:$X$5,MATCH(M3,Unique!$X$2:$X$5,0),1),0)","v":"-"},{"$f":"IFERROR(INDEX(Unique!$Y$2:$Z$5,MATCH(N3,Unique!$Z$2:$Z$5,0),1),0)","v":"-"},{"$f":"IFERROR(INDEX(Unique!$AA$2:$AB$5,MATCH(O3,Unique!$AB$2:$AB$5,0),1),0)","v":"-"},{"$f":"IFERROR(INDEX(Unique!$AC$2:$AD$5,MATCH(P3,Unique!$AD$2:$AD$5,0),1),0)","v":"-"},{"$f":"IFERROR(INDEX(Unique!$AE$2:$AF$5,MATCH(Q3,Unique!$AF$2:$AF$5,0),1),0)","v":"-"},{"$f":"IFERROR(INDEX(Unique!$AG$2:$AH$5,MATCH(R3,Unique!$AH$2:$AH$5,0),1),0)","v":"-"},{"$f":"IFERROR(INDEX(Unique!$AI$2:$AJ$5,MATCH(R3,Unique!$AJ$2:$AJ$5,0),1),0)","v":"-"},null,"-",1,null,1,"",{"$f":"IF(AND(Y2<>\"\",Y2<>0),F$2,\"0\")","v":"0"},24]
["N",1,1,1,1,1,1,1,1,1,1,1,1,1,1,1,1,1,1,null,"ВРУ-1 R разборный IP31",2,null,2,"",{"$f":"IF(AND(Y3<>\"\",Y3<>0),G$2,\"0\")","v":"0"}]
[{"$f":"A1","v":"Model"},"N","Height","Width","Depth","Frame","Panel","Profile","PProfil","Plate1","Plate2","Plate3","Plate4","Plate5","Plate6","Plate7","Rail","PanelPPN","Cokol",null,"ВРУ-1 S сварной IP31",3,null,3,"",{"$f":"IF(AND(Y4<>\"\",Y4<>0),H$2,\"0\")","v":"0"}]
["-",null,"-","-","-","-","-","-","-","-","-","-","-","-","-","-","-","-","-",null,"ВРУ-1 S сварной IP54",4,null,4,"",{"$f":"IF(AND(Y5<>\"\",Y5<>0),I$2,\"0\")","v":"0"}]
["ВРУ-1 R разборный IP31",null,2000,800,450,"mb09-01-06","mb09-03-02","mb15-04-05","-","mb15-08-01-02","mb15-08-02-01","mb15-08-01-06","mb15-08-01-02s","mb15-08-02-01s","mb15-08-01-06s","mb15-18-71s","mb15-06-02","mb15-08-01-09","-",null,"ЩО-70 Unit",5,null,5,"",{"$f":"IF(AND(Y6<>\"\",Y6<>0),J$2,\"0\")","v":"0"}]
["ВРУ-1 R разборный IP31",null,2000,600,450,"mb09-01-05","mb09-03-02","mb15-04-05","-","mb15-06-01-02","mb15-05-04","mb15-08-01-05","mb15-06-01-02s","mb15-05-04s","mb15-08-01-05s","mb15-18-51s","mb15-05-02","mb15-08-01-08","-",null,"ЩМП напольный IP31",6,null,6,"",{"$f":"IF(AND(Y7<>\"\",Y7<>0),K$2,\"0\")","v":"0"}]
["ВРУ-1 R разборный IP31",null,2000,450,450,"mb09-01-04","mb09-03-02","mb15-04-05","-","mb15-04-03","mb15-04-04","mb15-08-01-04","mb15-04-03s","mb15-04-04s","mb15-08-01-04s","mb15-18-45s","mb15-04-02","mb15-08-01-07","-",null,"ЩМП напольный IP54",7,null,7,"",{"$f":"IF(AND(Y8<>\"\",Y8<>0),L$2,\"0\")","v":"0"}]
["ВРУ-1 R разборный IP31",null,1800,800,450,"mb09-01-03","mb09-03-01","mb15-07-02","-","mb15-08-01-02","mb15-08-02-01","mb15-08-01-06","mb15-08-01-02s","mb15-08-02-01s","mb15-08-01-06s","mb15-16-71s","mb15-06-02","mb15-08-01-09","-",null,null,null,null,8,"",{"$f":"IF(AND(Y9<>\"\",Y9<>0),M$2,\"0\")","v":"0"}]
["ВРУ-1 R разборный IP31",null,1800,600,450,"mb09-01-02","mb09-03-01","mb15-07-02","-","mb15-06-01-02","mb15-05-04","mb15-08-01-05","mb15-06-01-02s","mb15-05-04s","mb15-08-01-05s","mb15-16-51s","mb15-05-02","mb15-08-01-08","-",null,null,null,null,9,"",{"$f":"IF(AND(Y10<>\"\",Y10<>0),N$2,\"0\")","v":"0"}]
["ВРУ-1 R разборный IP31",null,1800,450,450,"mb09-01-01","mb09-03-01","mb15-07-02","-","mb15-04-03","mb15-04-04","mb15-08-01-04","mb15-04-03s","mb15-04-04s","mb15-08-01-04s","mb15-16-45s","mb15-04-02","mb15-08-01-07","-",null,null,null,null,10,"",{"$f":"IF(AND(Y11<>\"\",Y11<>0),O$2,\"0\")","v":"0"}]
["ВРУ-1 S сварной IP31",null,2000,800,600,"mb-20-80-60n","mb15-04-06m","mb15-04-05","mb15-04-05p","mb15-08-01-02","mb15-08-02-01","mb15-08-01-06","mb15-08-01-02s","mb15-08-02-01s","mb15-08-01-06s","mb15-18-71s","mb15-06-02","mb15-08-01-09","mb15-08-02-07",null,null,null,null,11,"",{"$f":"IF(AND(Y12<>\"\",Y12<>0),P$2,\"0\")","v":"0"}]
["ВРУ-1 S сварной IP31",null,2000,800,450,"mb15-09-00m","mb15-04-01m","mb15-04-05","mb15-04-05p","mb15-08-01-02","mb15-08-02-01","mb15-08-01-06","mb15-08-01-02s","mb15-08-02-01s","mb15-08-01-06s","mb15-18-71s","mb15-06-02","mb15-08-01-09","mb15-08-02-05",null,null,null,null,12,"",{"$f":"IF(AND(Y13<>\"\",Y13<>0),Q$2,\"0\")","v":"0"}]
["ВРУ-1 S сварной IP31",null,2000,600,600,"mb-20-60-60n","mb15-04-06m","mb15-04-05","mb15-04-05p","mb15-06-01-02","mb15-05-04","mb15-08-01-05","mb15-06-01-02s","mb15-05-04s","mb15-08-01-05s","mb15-18-51s","mb15-05-02","mb15-08-01-08","mb15-08-02-06",null,null,null,null,13,"",{"$f":"IF(AND(Y14<>\"\",Y14<>0),R$2,\"0\")","v":"0"}]
["ВРУ-1 S сварной IP31",null,2000,600,450,"mb15-08-00m","mb15-04-01m","mb15-04-05","mb15-04-05p","mb15-06-01-02","mb15-05-04","mb15-08-01-05","mb15-06-01-02s","mb15-05-04s","mb15-08-01-05s","mb15-18-51s","mb15-05-02","mb15-08-01-08","mb15-08-02-04",null,null,null,null,14,"",{"$f":"IF(AND(Y15<>\"\",Y15<>0),S$2,\"0\")","v":"0"}]
["ВРУ-1 S сварной IP31",null,2000,450,450,"mb15-07-00m","mb15-04-01m","mb15-04-05","mb15-04-05p","mb15-04-03","mb15-04-04","mb15-08-01-04","mb15-04-03s","mb15-04-04s","mb15-08-01-04s","mb15-18-45s","mb15-04-02","mb15-08-01-07","mb15-08-02-03"]
["ВРУ-1 S сварной IP31",null,1800,800,600,"mb-18-80-60n","mb15-07-06m","mb15-07-02","mb15-07-02p","mb15-08-01-02","mb15-08-02-01","mb15-08-01-06","mb15-08-01-02s","mb15-08-02-01s","mb15-08-01-06s","mb15-16-71s","mb15-06-02","mb15-08-01-09","mb15-08-02-07"]
["ВРУ-1 S сварной IP31",null,1800,800,450,"mb15-06-00m","mb15-07-01m","mb15-07-02","mb15-07-02p","mb15-08-01-02","mb15-08-02-01","mb15-08-01-06","mb15-08-01-02s","mb15-08-02-01s","mb15-08-01-06s","mb15-16-71s","mb15-06-02","mb15-08-01-09","mb15-08-02-05"]
["ВРУ-1 S сварной IP31",null,1800,600,600,"mb-18-60-60n","mb15-07-06m","mb15-07-02","mb15-07-02p","mb15-06-01-02","mb15-05-04","mb15-08-01-05","mb15-06-01-02s","mb15-05-04s","mb15-08-01-05s","mb15-16-51s","mb15-05-02","mb15-08-01-08","mb15-08-02-06"]
["ВРУ-1 S сварной IP31",null,1800,600,450,"mb15-05-00m","mb15-07-01m","mb15-07-02","mb15-07-02p","mb15-06-01-02","mb15-05-04","mb15-08-01-05","mb15-06-01-02s","mb15-05-04s","mb15-08-01-05s","mb15-16-51s","mb15-05-02","mb15-08-01-08","mb15-08-02-04"]
["ВРУ-1 S сварной IP31",null,1800,450,450,"mb15-04-00m","mb15-07-01m","mb15-07-02","mb15-07-02p","mb15-04-03","mb15-04-04","mb15-08-01-04","mb15-04-03s","mb15-04-04s","mb15-08-01-04s","mb15-16-45s","mb15-04-02","mb15-08-01-07","mb15-08-02-03"]
["ВРУ-1 S сварной IP54",null,2000,800,450,"mb15-09-54m","-","mb15-04-05","mb15-04-05p","mb15-08-01-02","mb15-08-02-01","mb15-08-01-06","mb15-08-01-02s","mb15-08-02-01s","mb15-08-01-06s","mb15-18-71s","mb15-06-02","mb15-08-01-09","-"]
["ВРУ-1 S сварной IP54",null,2000,600,450,"mb15-20-60m","-","mb15-04-05","mb15-04-05p","mb15-06-01-02","mb15-05-04","mb15-08-01-05","mb15-06-01-02s","mb15-05-04s","mb15-08-01-05s","mb15-18-51s","mb15-05-02","mb15-08-01-08","-"]
["ВРУ-1 S сварной IP54",null,1800,800,450,"mb-18-80-45m","-","mb15-07-02","mb15-07-02p","mb15-08-01-02","mb15-08-02-01","mb15-08-01-06","mb15-08-01-02s","mb15-08-02-01s","mb15-08-01-06s","mb15-16-71s","mb15-06-02","mb15-08-01-09","-"]
["ВРУ-1 S сварной IP54",null,1800,600,450,"mb15-05-54m","-","mb15-07-02","mb15-07-02p","mb15-06-01-02","mb15-05-04","mb15-08-01-05","mb15-06-01-02s","mb15-05-04s","mb15-08-01-05s","mb15-16-51s","mb15-05-02","mb15-08-01-08","-"]
["ВРУ-2 S сварной IP31",null,2000,800,450,"mb15-15-01m","mb15-04-01m","mb15-04-05","mb15-04-05p","mb15-08-01-02","mb15-08-02-01","mb15-08-01-06","mb15-08-01-02s","mb15-08-02-01s","mb15-08-01-06s","mb15-18-71s","mb15-06-02","mb15-08-01-09","mb15-08-02-05"]
["ВРУ-2 S сварной IP31",null,2000,600,450,"mb15-14-00m","mb15-04-01m","mb15-04-05","mb15-04-05p","mb15-06-01-02","mb15-05-04","mb15-08-01-05","mb15-06-01-02s","mb15-05-04s","mb15-08-01-05s","mb15-18-51s","mb15-05-02","mb15-08-01-08","mb15-08-02-04"]
["ВРУ-2 S сварной IP31",null,2000,450,450,"mb15-13-00m","mb15-04-01m","mb15-04-05","mb15-04-05p","mb15-04-03","mb15-04-04","mb15-08-01-04","mb15-04-03s","mb15-04-04s","mb15-08-01-04s","mb15-18-45s","mb15-04-02","mb15-08-01-07","mb15-08-02-03"]
["ВРУ-2 S сварной IP31",null,1800,800,450,"mb15-12-00m","mb15-07-01m","mb15-07-02","mb15-07-02p","mb15-08-01-02","mb15-08-02-01","mb15-08-01-06","mb15-08-01-02s","mb15-08-02-01s","mb15-08-01-06s","mb15-16-71s","mb15-06-02","mb15-08-01-09","mb15-08-02-05"]
["ВРУ-2 S сварной IP31",null,1800,600,450,"mb15-11-00m","mb15-07-01m","mb15-07-02","mb15-07-02p","mb15-06-01-02","mb15-05-04","mb15-08-01-05","mb15-06-01-02s","mb15-05-04s","mb15-08-01-05s","mb15-16-51s","mb15-05-02","mb15-08-01-08","mb15-08-02-04"]
["ВРУ-2 S сварной IP31",null,1800,450,450,"mb15-10-00m","mb15-07-01m","mb15-07-02","mb15-07-02p","mb15-04-03","mb15-04-04","mb15-08-01-04","mb15-04-03s","mb15-04-04s","mb15-08-01-04s","mb15-16-45s","mb15-04-02","mb15-08-01-07","mb15-08-02-03"]
["ВРУ-2 S сварной IP54",null,2000,800,450,"mb15-15-54m","-","mb15-04-05","mb15-04-05p","mb15-08-01-02","mb15-08-02-01","mb15-08-01-06","mb15-08-01-02s","mb15-08-02-01s","mb15-08-01-06s","mb15-18-71s","mb15-06-02","mb15-08-01-09","-"]
["ВРУ-2 S сварной IP54",null,2000,600,450,"mb15-16-54m","-","mb15-04-05","mb15-04-05p","mb15-06-01-02","mb15-05-04","mb15-08-01-05","mb15-06-01-02s","mb15-05-04s","mb15-08-01-05s","mb15-18-51s","mb15-05-02","mb15-08-01-08","-"]
["ВРУ-2 S сварной IP54",null,2000,450,450,"mb-15-14-54m","-","mb15-04-05","mb15-04-05p","mb15-04-03","mb15-04-04","mb15-08-01-04","mb15-04-03s","mb15-04-04s","mb15-08-01-04s","mb15-18-45s","mb15-04-02","mb15-08-01-07","-"]
["ВРУ-2 S сварной IP54",null,1800,800,450,"mb15-12-54m","-","mb15-07-02","mb15-07-02p","mb15-08-01-02","mb15-08-02-01","mb15-08-01-06","mb15-08-01-02s","mb15-08-02-01s","mb15-08-01-06s","mb15-16-71s","mb15-06-02","mb15-08-01-09","-"]
["ВРУ-2 S сварной IP54",null,1800,600,450,"mb15-11-54m","-","mb15-07-02","mb15-07-02p","mb15-06-01-02","mb15-05-04","mb15-08-01-05","mb15-06-01-02s","mb15-05-04s","mb15-08-01-05s","mb15-16-51s","mb15-05-02","mb15-08-01-08","-"]
["ВРУ-2 S сварной IP54",null,1800,450,450,"mb15-13-54m","-","mb15-07-02","mb15-07-02p","mb15-04-03","mb15-04-04","mb15-08-01-04","mb15-04-03s","mb15-04-04s","mb15-08-01-04s","mb15-16-45s","mb15-04-02","mb15-08-01-07","-"]
["ЩМП напольный IP31",null,1800,800,400,"mb22-9L","-","pv-1760","-","pm-300x745","pm-500x745","-","pm-300x740s","pm-500x740s","-","pm-1760x740s","po-30x745","ppn-140x745","c-100x800"]
["ЩМП напольный IP31",null,1800,600,400,"mb22-9","-","pv-1760","-","pm-300x545","pm-500x545","-","pm-300x540s","pm-500x540s","-","pm-1760x540s","po-30x545","ppn-140x545","c-100x600"]
["ЩМП напольный IP31",null,1600,800,400,"mb22-8L","-","pv-1560","-","pm-300x745","pm-500x745","-","pm-300x740s","pm-500x740s","-","pm-1560x740s","po-30x745","ppn-140x745","c-100x800"]
["ЩМП напольный IP31",null,1600,600,400,"mb22-8","-","pv-1560","-","pm-300x545","pm-500x545","-","pm-300x540s","pm-500x540s","-","pm-1560x540s","po-30x545","ppn-140x545","c-100x600"]
["ЩМП напольный IP54",null,1800,800,400,"mb24-9LS","-","pv-1760","-","pm-300x745","pm-500x745","-","pm-300x740s","pm-500x740s","-","pm-1760x740s","po-30x745","ppn-140x745","c-100x800"]
["ЩМП напольный IP54",null,1800,600,400,"mb24-9S","-","pv-1760","-","pm-300x545","pm-500x545","-","pm-300x540s","pm-500x540s","-","pm-1760x540s","po-30x545","ppn-140x545","c-100x600"]
["ЩМП напольный IP54",null,1600,800,400,"mb24-8L","-","pv-1560","-","pm-300x745","pm-500x745","-","pm-300x740s","pm-500x740s","-","pm-1560x740s","po-30x745","ppn-140x745","c-100x800"]
["ЩМП напольный IP54",null,1600,600,400,"mb24-8","-","pv-1560","-","pm-300x545","pm-500x545","-","pm-300x540s","pm-500x540s","-","pm-1560x540s","po-30x545","ppn-140x545","c-100x600"]
["ЩО-70 Unit",null,1800,800,600,"mb-05-07-01","mb15-07-06m","mb15-07-02","mb15-07-02p","mb15-08-01-02","mb15-08-02-01","mb15-08-01-06","mb15-08-01-02s","mb15-08-02-01s","mb15-08-01-06s","mb15-16-71s","mb15-06-02","mb15-08-01-09","-"]
[]
[]
[null,null,null,null,null,null,20,21,22,24,25,26,null,23,null,27,28,29,30]
[null,null,null,null,null," (в комплекте поставки)"," (в комплекте поставки)"," (в комплекте поставки)"," (в комплекте поставки)"," (в комплекте поставки)"," (в комплекте поставки)"," (в комплекте поставки)"," (в комплекте поставки)"," (в комплекте поставки)"," (в комплекте поставки)"," (в комплекте поставки)"," (в комплекте поставки)"," (в комплекте поставки)"," (в комплекте поставки)"]

{"sheet":"Лист1","index":2,"n_rows":0,"n_cols":0,"rows_kept":0,"cut":false,"hidden":true,"merged":[]}

{"sheet":"Unique","index":3,"n_rows":18,"n_cols":50,"rows_kept":18,"cut":false,"hidden":true,"merged":[[2,36,3,43]]}
[{"$f":"model!A4","v":"Model"},"№",{"$f":"model!C4","v":"Height"},"№",{"$f":"model!D4","v":"Width"},"№",{"$f":"model!E4","v":"Depth"},"№",{"$f":"model!F4","v":"Frame"},"№",{"$f":"model!G4","v":"Panel"},"№",{"$f":"model!H4","v":"Profile"},"№",{"$f":"model!I4","v":"PProfil"},"№",{"$f":"model!J4","v":"Plate1"},"№",{"$f":"model!K4","v":"Plate2"},"№",{"$f":"model!L4","v":"Plate3"},"№",{"$f":"model!M4","v":"Plate4"},"№",{"$f":"model!N4","v":"Plate5"},"№",{"$f":"model!O4","v":"Plate6"},"№",{"$f":"model!P4","v":"Plate7"},"№",{"$f":"model!Q4","v":"Rail"},"№",{"$f":"model!R4","v":"PanelPPN"},"№",{"$f":"model!S4","v":"Cokol"},"№",null,"Art","Номенклатура","Количество",null,null,null,null,null,null,null,null,null,30]
[{"$f":"INDEX(Model,MATCH(0,COUNTIF($A$1:A1,Model),0))","v":"-"},1,{"$f":"INDEX(Height,MATCH(0,COUNTIF($C$1:C1,Height)+(Model<>model!$A$2),0))","v":"-"},1,{"$f":"INDEX(Width,MATCH(0,COUNTIF($E$1:E1,Width)+(Model<>model!$A$2)+(Height<>model!$C$2),0))","v":"-"},1,{"$f":"INDEX(Depth,MATCH(0,COUNTIF($G$1:G1,Depth)+(Model<>model!$A$2)+(Height<>model!$C$2)+(Width<>model!$D$2),0))","v":"-"},1,{"$f":"INDEX(Frame,MATCH(0,COUNTIF($I$1:I1,Frame)+(Model<>model!$A$2)+(Height<>model!$C$2)+(Width<>model!$D$2)+(Depth<>model!$E$2),0))","v":"-"},1,{"$f":"INDEX(Panel,MATCH(0,COUNTIF($K$1:K1,Panel)+(Model<>model!$A$2)+(Height<>model!$C$2)+(Width<>model!$D$2)+(Depth<>model!$E$2),0))","v":"-"},1,{"$f":"INDEX(Profile,MATCH(0,COUNTIF($M$1:M1,Profile)+(Model<>model!$A$2)+(Height<>model!$C$2)+(Width<>model!$D$2)+(Depth<>model!$E$2),0))","v":"-"},1,{"$f":"INDEX(PProfil,MATCH(0,COUNTIF($O$1:O1,PProfil)+(Model<>model!$A$2)+(Height<>model!$C$2)+(Width<>model!$D$2)+(Depth<>model!$E$2),0))","v":"-"},1,{"$f":"INDEX(Plate1,MATCH(0,COUNTIF($Q$1:Q1,Plate1)+(Model<>model!$A$2)+(Height<>model!$C$2)+(Width<>model!$D$2)+(Depth<>model!$E$2),0))","v":"-"},1,{"$f":"INDEX(Plate2,MATCH(0,COUNTIF($S$1:S1,Plate2)+(Model<>model!$A$2)+(Height<>model!$C$2)+(Width<>model!$D$2)+(Depth<>model!$E$2),0))","v":"-"},1,{"$f":"INDEX(Plate3,MATCH(0,COUNTIF($U$1:U1,Plate3)+(Model<>model!$A$2)+(Height<>model!$C$2)+(Width<>model!$D$2)+(Depth<>model!$E$2),0))","v":"-"},1,{"$f":"INDEX(Plate4,MATCH(0,COUNTIF($W$1:W1,Plate4)+(Model<>model!$A$2)+(Height<>model!$C$2)+(Width<>model!$D$2)+(Depth<>model!$E$2),0))","v":"-"},1,{"$f":"INDEX(Plate5,MATCH(0,COUNTIF($Y$1:Y1,Plate5)+(Model<>model!$A$2)+(Height<>model!$C$2)+(Width<>model!$D$2)+(Depth<>model!$E$2),0))","v":"-"},1,{"$f":"INDEX(Plate6,MATCH(0,COUNTIF($AA$1:AA1,Plate6)+(Model<>model!$A$2)+(Height<>model!$C$2)+(Width<>model!$D$2)+(Depth<>model!$E$2),0))","v":"-"},1,{"$f":"INDEX(Plate7,MATCH(0,COUNTIF($AC$1:AC1,Plate7)+(Model<>model!$A$2)+(Height<>model!$C$2)+(Width<>model!$D$2)+(Depth<>model!$E$2),0))","v":"-"},1,{"$f":"INDEX(Rail,MATCH(0,COUNTIF($AE$1:AE1,Rail)+(Model<>model!$A$2)+(Height<>model!$C$2)+(Width<>model!$D$2)+(Depth<>model!$E$2),0))","v":"-"},1,{"$f":"INDEX(PanelPPN,MATCH(0,COUNTIF($AG$1:AG1,PanelPPN)+(Model<>model!$A$2)+(Height<>model!$C$2)+(Width<>model!$D$2)+(Depth<>model!$E$2),0))","v":"-"},1,{"$f":"INDEX(Cokol,MATCH(0,COUNTIF($AI$1:AI1,Cokol)+(Model<>model!$A$2)+(Height<>model!$C$2)+(Width<>model!$D$2)+(Depth<>model!$E$2),0))","v":"-"},1,null,{"$f":"model!F2","v":"-"},{"$f":"IFERROR(VLOOKUP(AL2,nom!A:B,2,0),\"\")","v":""},{"$f":"model!Y2","v":""},null,null,null,null,null,null,null,null,null,30]
["ВРУ-1 R разборный IP31",2,{"$f":"INDEX(Height,MATCH(0,COUNTIF($C$1:C2,Height)+(Model<>model!$A$2),0))","v":{"$error":"#N/A"}},2,{"$f":"INDEX(Width,MATCH(0,COUNTIF($E$1:E2,Width)+(Model<>model!$A$2)+(Height<>model!$C$2),0))","v":{"$error":"#N/A"}},2,{"$f":"INDEX(Depth,MATCH(0,COUNTIF($G$1:G2,Depth)+(Model<>model!$A$2)+(Height<>model!$C$2)+(Width<>model!$D$2),0))","v":{"$error":"#N/A"}},2,{"$f":"INDEX(Frame,MATCH(0,COUNTIF($I$1:I2,Frame)+(Model<>model!$A$2)+(Height<>model!$C$2)+(Width<>model!$D$2)+(Depth<>model!$E$2),0))","v":{"$error":"#N/A"}},2,{"$f":"INDEX(Panel,MATCH(0,COUNTIF($K$1:K2,Panel)+(Model<>model!$A$2)+(Height<>model!$C$2)+(Width<>model!$D$2)+(Depth<>model!$E$2),0))","v":{"$error":"#N/A"}},2,{"$f":"INDEX(Profile,MATCH(0,COUNTIF($M$1:M2,Profile)+(Model<>model!$A$2)+(Height<>model!$C$2)+(Width<>model!$D$2)+(Depth<>model!$E$2),0))","v":{"$error":"#N/A"}},2,{"$f":"INDEX(PProfil,MATCH(0,COUNTIF($O$1:O2,PProfil)+(Model<>model!$A$2)+(Height<>model!$C$2)+(Width<>model!$D$2)+(Depth<>model!$E$2),0))","v":{"$error":"#N/A"}},2,{"$f":"INDEX(Plate1,MATCH(0,COUNTIF($Q$1:Q2,Plate1)+(Model<>model!$A$2)+(Height<>model!$C$2)+(Width<>model!$D$2)+(Depth<>model!$E$2),0))","v":{"$error":"#N/A"}},2,{"$f":"INDEX(Plate2,MATCH(0,COUNTIF($S$1:S2,Plate2)+(Model<>model!$A$2)+(Height<>model!$C$2)+(Width<>model!$D$2)+(Depth<>model!$E$2),0))","v":{"$error":"#N/A"}},2,{"$f":"INDEX(Plate3,MATCH(0,COUNTIF($U$1:U2,Plate3)+(Model<>model!$A$2)+(Height<>model!$C$2)+(Width<>model!$D$2)+(Depth<>model!$E$2),0))","v":{"$error":"#N/A"}},2,{"$f":"INDEX(Plate4,MATCH(0,COUNTIF($W$1:W2,Plate4)+(Model<>model!$A$2)+(Height<>model!$C$2)+(Width<>model!$D$2)+(Depth<>model!$E$2),0))","v":{"$error":"#N/A"}},2,{"$f":"INDEX(Plate5,MATCH(0,COUNTIF($Y$1:Y2,Plate5)+(Model<>model!$A$2)+(Height<>model!$C$2)+(Width<>model!$D$2)+(Depth<>model!$E$2),0))","v":{"$error":"#N/A"}},2,{"$f":"INDEX(Plate6,MATCH(0,COUNTIF($AA$1:AA2,Plate6)+(Model<>model!$A$2)+(Height<>model!$C$2)+(Width<>model!$D$2)+(Depth<>model!$E$2),0))","v":{"$error":"#N/A"}},2,{"$f":"INDEX(Plate7,MATCH(0,COUNTIF($AC$1:AC2,Plate7)+(Model<>model!$A$2)+(Height<>model!$C$2)+(Width<>model!$D$2)+(Depth<>model!$E$2),0))","v":{"$error":"#N/A"}},2,{"$f":"INDEX(Rail,MATCH(0,COUNTIF($AE$1:AE2,Rail)+(Model<>model!$A$2)+(Height<>model!$C$2)+(Width<>model!$D$2)+(Depth<>model!$E$2),0))","v":{"$error":"#N/A"}},2,{"$f":"INDEX(PanelPPN,MATCH(0,COUNTIF($AG$1:AG2,PanelPPN)+(Model<>model!$A$2)+(Height<>model!$C$2)+(Width<>model!$D$2)+(Depth<>model!$E$2),0))","v":{"$error":"#N/A"}},2,{"$f":"INDEX(Cokol,MATCH(0,COUNTIF($AI$1:AI2,Cokol)+(Model<>model!$A$2)+(Height<>model!$C$2)+(Width<>model!$D$2)+(Depth<>model!$E$2),0))","v":{"$error":"#N/A"}},2,"Дополнительное оборудование",null,null,null,null,null,null,null,null,null,null,null,null,25]
["ВРУ-1 S сварной IP31",3,{"$f":"INDEX(Height,MATCH(0,COUNTIF($C$1:C3,Height)+(Model<>model!$A$2),0))","v":{"$error":"#N/A"}},3,{"$f":"INDEX(Width,MATCH(0,COUNTIF($E$1:E3,Width)+(Model<>model!$A$2)+(Height<>model!$C$2),0))","v":{"$error":"#N/A"}},3,{"$f":"INDEX(Depth,MATCH(0,COUNTIF($G$1:G3,Depth)+(Model<>model!$A$2)+(Height<>model!$C$2)+(Width<>model!$D$2),0))","v":{"$error":"#N/A"}},3,{"$f":"INDEX(Frame,MATCH(0,COUNTIF($I$1:I3,Frame)+(Model<>model!$A$2)+(Height<>model!$C$2)+(Width<>model!$D$2)+(Depth<>model!$E$2),0))","v":{"$error":"#N/A"}},3,{"$f":"INDEX(Panel,MATCH(0,COUNTIF($K$1:K3,Panel)+(Model<>model!$A$2)+(Height<>model!$C$2)+(Width<>model!$D$2)+(Depth<>model!$E$2),0))","v":{"$error":"#N/A"}},3,{"$f":"INDEX(Profile,MATCH(0,COUNTIF($M$1:M3,Profile)+(Model<>model!$A$2)+(Height<>model!$C$2)+(Width<>model!$D$2)+(Depth<>model!$E$2),0))","v":{"$error":"#N/A"}},3,{"$f":"INDEX(PProfil,MATCH(0,COUNTIF($O$1:O3,PProfil)+(Model<>model!$A$2)+(Height<>model!$C$2)+(Width<>model!$D$2)+(Depth<>model!$E$2),0))","v":{"$error":"#N/A"}},3,{"$f":"INDEX(Plate1,MATCH(0,COUNTIF($Q$1:Q3,Plate1)+(Model<>model!$A$2)+(Height<>model!$C$2)+(Width<>model!$D$2)+(Depth<>model!$E$2),0))","v":{"$error":"#N/A"}},3,{"$f":"INDEX(Plate2,MATCH(0,COUNTIF($S$1:S3,Plate2)+(Model<>model!$A$2)+(Height<>model!$C$2)+(Width<>model!$D$2)+(Depth<>model!$E$2),0))","v":{"$error":"#N/A"}},3,{"$f":"INDEX(Plate3,MATCH(0,COUNTIF($U$1:U3,Plate3)+(Model<>model!$A$2)+(Height<>model!$C$2)+(Width<>model!$D$2)+(Depth<>model!$E$2),0))","v":{"$error":"#N/A"}},3,{"$f":"INDEX(Plate4,MATCH(0,COUNTIF($W$1:W3,Plate4)+(Model<>model!$A$2)+(Height<>model!$C$2)+(Width<>model!$D$2)+(Depth<>model!$E$2),0))","v":{"$error":"#N/A"}},3,{"$f":"INDEX(Plate5,MATCH(0,COUNTIF($Y$1:Y3,Plate5)+(Model<>model!$A$2)+(Height<>model!$C$2)+(Width<>model!$D$2)+(Depth<>model!$E$2),0))","v":{"$error":"#N/A"}},3,{"$f":"INDEX(Plate6,MATCH(0,COUNTIF($AA$1:AA3,Plate6)+(Model<>model!$A$2)+(Height<>model!$C$2)+(Width<>model!$D$2)+(Depth<>model!$E$2),0))","v":{"$error":"#N/A"}},3,{"$f":"INDEX(Plate7,MATCH(0,COUNTIF($AC$1:AC3,Plate7)+(Model<>model!$A$2)+(Height<>model!$C$2)+(Width<>model!$D$2)+(Depth<>model!$E$2),0))","v":{"$error":"#N/A"}},3,{"$f":"INDEX(Rail,MATCH(0,COUNTIF($AE$1:AE3,Rail)+(Model<>model!$A$2)+(Height<>model!$C$2)+(Width<>model!$D$2)+(Depth<>model!$E$2),0))","v":{"$error":"#N/A"}},3,{"$f":"INDEX(PanelPPN,MATCH(0,COUNTIF($AG$1:AG3,PanelPPN)+(Model<>model!$A$2)+(Height<>model!$C$2)+(Width<>model!$D$2)+(Depth<>model!$E$2),0))","v":{"$error":"#N/A"}},3,{"$f":"INDEX(Cokol,MATCH(0,COUNTIF($AI$1:AI3,Cokol)+(Model<>model!$A$2)+(Height<>model!$C$2)+(Width<>model!$D$2)+(Depth<>model!$E$2),0))","v":{"$error":"#N/A"}},3,null,null,null,null,null,null,null,null,null,null,null,null,null,20]
["ВРУ-1 S сварной IP54",4,{"$f":"INDEX(Height,MATCH(0,COUNTIF($C$1:C4,Height)+(Model<>model!$A$2),0))","v":{"$error":"#N/A"}},4,{"$f":"INDEX(Width,MATCH(0,COUNTIF($E$1:E4,Width)+(Model<>model!$A$2)+(Height<>model!$C$2),0))","v":{"$error":"#N/A"}},4,{"$f":"INDEX(Depth,MATCH(0,COUNTIF($G$1:G4,Depth)+(Model<>model!$A$2)+(Height<>model!$C$2)+(Width<>model!$D$2),0))","v":{"$error":"#N/A"}},4,{"$f":"INDEX(Frame,MATCH(0,COUNTIF($I$1:I4,Frame)+(Model<>model!$A$2)+(Height<>model!$C$2)+(Width<>model!$D$2)+(Depth<>model!$E$2),0))","v":{"$error":"#N/A"}},4,{"$f":"INDEX(Panel,MATCH(0,COUNTIF($K$1:K4,Panel)+(Model<>model!$A$2)+(Height<>model!$C$2)+(Width<>model!$D$2)+(Depth<>model!$E$2),0))","v":{"$error":"#N/A"}},4,{"$f":"INDEX(Profile,MATCH(0,COUNTIF($M$1:M4,Profile)+(Model<>model!$A$2)+(Height<>model!$C$2)+(Width<>model!$D$2)+(Depth<>model!$E$2),0))","v":{"$error":"#N/A"}},4,{"$f":"INDEX(PProfil,MATCH(0,COUNTIF($O$1:O4,PProfil)+(Model<>model!$A$2)+(Height<>model!$C$2)+(Width<>model!$D$2)+(Depth<>model!$E$2),0))","v":{"$error":"#N/A"}},4,{"$f":"INDEX(Plate1,MATCH(0,COUNTIF($Q$1:Q4,Plate1)+(Model<>model!$A$2)+(Height<>model!$C$2)+(Width<>model!$D$2)+(Depth<>model!$E$2),0))","v":{"$error":"#N/A"}},4,{"$f":"INDEX(Plate2,MATCH(0,COUNTIF($S$1:S4,Plate2)+(Model<>model!$A$2)+(Height<>model!$C$2)+(Width<>model!$D$2)+(Depth<>model!$E$2),0))","v":{"$error":"#N/A"}},4,{"$f":"INDEX(Plate3,MATCH(0,COUNTIF($U$1:U4,Plate3)+(Model<>model!$A$2)+(Height<>model!$C$2)+(Width<>model!$D$2)+(Depth<>model!$E$2),0))","v":{"$error":"#N/A"}},4,{"$f":"INDEX(Plate4,MATCH(0,COUNTIF($W$1:W4,Plate4)+(Model<>model!$A$2)+(Height<>model!$C$2)+(Width<>model!$D$2)+(Depth<>model!$E$2),0))","v":{"$error":"#N/A"}},4,{"$f":"INDEX(Plate5,MATCH(0,COUNTIF($Y$1:Y4,Plate5)+(Model<>model!$A$2)+(Height<>model!$C$2)+(Width<>model!$D$2)+(Depth<>model!$E$2),0))","v":{"$error":"#N/A"}},4,{"$f":"INDEX(Plate6,MATCH(0,COUNTIF($AA$1:AA4,Plate6)+(Model<>model!$A$2)+(Height<>model!$C$2)+(Width<>model!$D$2)+(Depth<>model!$E$2),0))","v":{"$error":"#N/A"}},4,{"$f":"INDEX(Plate7,MATCH(0,COUNTIF($AC$1:AC4,Plate7)+(Model<>model!$A$2)+(Height<>model!$C$2)+(Width<>model!$D$2)+(Depth<>model!$E$2),0))","v":{"$error":"#N/A"}},4,{"$f":"INDEX(Rail,MATCH(0,COUNTIF($AE$1:AE4,Rail)+(Model<>model!$A$2)+(Height<>model!$C$2)+(Width<>model!$D$2)+(Depth<>model!$E$2),0))","v":{"$error":"#N/A"}},4,{"$f":"INDEX(PanelPPN,MATCH(0,COUNTIF($AG$1:AG4,PanelPPN)+(Model<>model!$A$2)+(Height<>model!$C$2)+(Width<>model!$D$2)+(Depth<>model!$E$2),0))","v":{"$error":"#N/A"}},4,{"$f":"INDEX(Cokol,MATCH(0,COUNTIF($AI$1:AI4,Cokol)+(Model<>model!$A$2)+(Height<>model!$C$2)+(Width<>model!$D$2)+(Depth<>model!$E$2),0))","v":{"$error":"#N/A"}},4,null,{"$f":"IFERROR(INDEX(model!$Z$3:$Z$15,MATCH(1,COUNTIF($AL$4:AL4,model!$Z$3:$Z$15)+(model!$Z$3:$Z$15<>\"0\"),0)),\"\")","v":""},{"$f":"IFERROR(VLOOKUP(AL5,nom!A:B,2,0),\"\")","v":""},{"$f":"IFERROR(INDEX(model!$Y$3:$Z$15,MATCH(Unique!AL5,model!$Z$3:$Z$15,0),1),\"\")","v":""},null,null,null,null,null,null,null,null,null,15]
["ВРУ-2 S сварной IP31",5,{"$f":"INDEX(Height,MATCH(0,COUNTIF($C$1:C5,Height)+(Model<>model!$A$2),0))","v":{"$error":"#N/A"}},5,{"$f":"INDEX(Width,MATCH(0,COUNTIF($E$1:E5,Width)+(Model<>model!$A$2)+(Height<>model!$C$2),0))","v":{"$error":"#N/A"}},5,{"$f":"INDEX(Depth,MATCH(0,COUNTIF($G$1:G5,Depth)+(Model<>model!$A$2)+(Height<>model!$C$2)+(Width<>model!$D$2),0))","v":{"$error":"#N/A"}},5,{"$f":"INDEX(Frame,MATCH(0,COUNTIF($I$1:I5,Frame)+(Model<>model!$A$2)+(Height<>model!$C$2)+(Width<>model!$D$2)+(Depth<>model!$E$2),0))","v":{"$error":"#N/A"}},5,{"$f":"INDEX(Panel,MATCH(0,COUNTIF($K$1:K5,Panel)+(Model<>model!$A$2)+(Height<>model!$C$2)+(Width<>model!$D$2)+(Depth<>model!$E$2),0))","v":{"$error":"#N/A"}},5,{"$f":"INDEX(Profile,MATCH(0,COUNTIF($M$1:M5,Profile)+(Model<>model!$A$2)+(Height<>model!$C$2)+(Width<>model!$D$2)+(Depth<>model!$E$2),0))","v":{"$error":"#N/A"}},5,{"$f":"INDEX(PProfil,MATCH(0,COUNTIF($O$1:O5,PProfil)+(Model<>model!$A$2)+(Height<>model!$C$2)+(Width<>model!$D$2)+(Depth<>model!$E$2),0))","v":{"$error":"#N/A"}},5,{"$f":"INDEX(Plate1,MATCH(0,COUNTIF($Q$1:Q5,Plate1)+(Model<>model!$A$2)+(Height<>model!$C$2)+(Width<>model!$D$2)+(Depth<>model!$E$2),0))","v":{"$error":"#N/A"}},5,{"$f":"INDEX(Plate2,MATCH(0,COUNTIF($S$1:S5,Plate2)+(Model<>model!$A$2)+(Height<>model!$C$2)+(Width<>model!$D$2)+(Depth<>model!$E$2),0))","v":{"$error":"#N/A"}},5,{"$f":"INDEX(Plate3,MATCH(0,COUNTIF($U$1:U5,Plate3)+(Model<>model!$A$2)+(Height<>model!$C$2)+(Width<>model!$D$2)+(Depth<>model!$E$2),0))","v":{"$error":"#N/A"}},5,{"$f":"INDEX(Plate4,MATCH(0,COUNTIF($W$1:W5,Plate4)+(Model<>model!$A$2)+(Height<>model!$C$2)+(Width<>model!$D$2)+(Depth<>model!$E$2),0))","v":{"$error":"#N/A"}},5,{"$f":"INDEX(Plate5,MATCH(0,COUNTIF($Y$1:Y5,Plate5)+(Model<>model!$A$2)+(Height<>model!$C$2)+(Width<>model!$D$2)+(Depth<>model!$E$2),0))","v":{"$error":"#N/A"}},5,{"$f":"INDEX(Plate6,MATCH(0,COUNTIF($AA$1:AA5,Plate6)+(Model<>model!$A$2)+(Height<>model!$C$2)+(Width<>model!$D$2)+(Depth<>model!$E$2),0))","v":{"$error":"#N/A"}},5,{"$f":"INDEX(Plate7,MATCH(0,COUNTIF($AC$1:AC5,Plate7)+(Model<>model!$A$2)+(Height<>model!$C$2)+(Width<>model!$D$2)+(Depth<>model!$E$2),0))","v":{"$error":"#N/A"}},5,{"$f":"INDEX(Rail,MATCH(0,COUNTIF($AE$1:AE5,Rail)+(Model<>model!$A$2)+(Height<>model!$C$2)+(Width<>model!$D$2)+(Depth<>model!$E$2),0))","v":{"$error":"#N/A"}},5,{"$f":"INDEX(PanelPPN,MATCH(0,COUNTIF($AG$1:AG5,PanelPPN)+(Model<>model!$A$2)+(Height<>model!$C$2)+(Width<>model!$D$2)+(Depth<>model!$E$2),0))","v":{"$error":"#N/A"}},5,{"$f":"INDEX(Cokol,MATCH(0,COUNTIF($AI$1:AI5,Cokol)+(Model<>model!$A$2)+(Height<>model!$C$2)+(Width<>model!$D$2)+(Depth<>model!$E$2),0))","v":{"$error":"#N/A"}},5,null,{"$f":"IFERROR(INDEX(model!$Z$3:$Z$15,MATCH(1,COUNTIF($AL$4:AL5,model!$Z$3:$Z$15)+(model!$Z$3:$Z$15<>\"0\"),0)),\"\")","v":""},{"$f":"IFERROR(VLOOKUP(AL6,nom!A:B,2,0),\"\")","v":""},{"$f":"IFERROR(INDEX(model!$Y$3:$Z$15,MATCH(Unique!AL6,model!$Z$3:$Z$15,0),1),\"\")","v":""}]
["ВРУ-2 S сварной IP54",6,{"$f":"INDEX(Height,MATCH(0,COUNTIF($C$1:C6,Height)+(Model<>model!$A$2),0))","v":{"$error":"#N/A"}},6,{"$f":"INDEX(Width,MATCH(0,COUNTIF($E$1:E6,Width)+(Model<>model!$A$2)+(Height<>model!$C$2),0))","v":{"$error":"#N/A"}},6,{"$f":"INDEX(Depth,MATCH(0,COUNTIF($G$1:G6,Depth)+(Model<>model!$A$2)+(Height<>model!$C$2)+(Width<>model!$D$2),0))","v":{"$error":"#N/A"}},6,{"$f":"INDEX(Frame,MATCH(0,COUNTIF($I$1:I6,Frame)+(Model<>model!$A$2)+(Height<>model!$C$2)+(Width<>model!$D$2)+(Depth<>model!$E$2),0))","v":{"$error":"#N/A"}},6,{"$f":"INDEX(Panel,MATCH(0,COUNTIF($K$1:K6,Panel)+(Model<>model!$A$2)+(Height<>model!$C$2)+(Width<>model!$D$2)+(Depth<>model!$E$2),0))","v":{"$error":"#N/A"}},6,{"$f":"INDEX(Profile,MATCH(0,COUNTIF($M$1:M6,Profile)+(Model<>model!$A$2)+(Height<>model!$C$2)+(Width<>model!$D$2)+(Depth<>model!$E$2),0))","v":{"$error":"#N/A"}},6,{"$f":"INDEX(PProfil,MATCH(0,COUNTIF($O$1:O6,PProfil)+(Model<>model!$A$2)+(Height<>model!$C$2)+(Width<>model!$D$2)+(Depth<>model!$E$2),0))","v":{"$error":"#N/A"}},6,{"$f":"INDEX(Plate1,MATCH(0,COUNTIF($Q$1:Q6,Plate1)+(Model<>model!$A$2)+(Height<>model!$C$2)+(Width<>model!$D$2)+(Depth<>model!$E$2),0))","v":{"$error":"#N/A"}},6,{"$f":"INDEX(Plate2,MATCH(0,COUNTIF($S$1:S6,Plate2)+(Model<>model!$A$2)+(Height<>model!$C$2)+(Width<>model!$D$2)+(Depth<>model!$E$2),0))","v":{"$error":"#N/A"}},6,{"$f":"INDEX(Plate3,MATCH(0,COUNTIF($U$1:U6,Plate3)+(Model<>model!$A$2)+(Height<>model!$C$2)+(Width<>model!$D$2)+(Depth<>model!$E$2),0))","v":{"$error":"#N/A"}},6,{"$f":"INDEX(Plate4,MATCH(0,COUNTIF($W$1:W6,Plate4)+(Model<>model!$A$2)+(Height<>model!$C$2)+(Width<>model!$D$2)+(Depth<>model!$E$2),0))","v":{"$error":"#N/A"}},6,{"$f":"INDEX(Plate5,MATCH(0,COUNTIF($Y$1:Y6,Plate5)+(Model<>model!$A$2)+(Height<>model!$C$2)+(Width<>model!$D$2)+(Depth<>model!$E$2),0))","v":{"$error":"#N/A"}},6,{"$f":"INDEX(Plate6,MATCH(0,COUNTIF($AA$1:AA6,Plate6)+(Model<>model!$A$2)+(Height<>model!$C$2)+(Width<>model!$D$2)+(Depth<>model!$E$2),0))","v":{"$error":"#N/A"}},6,{"$f":"INDEX(Plate7,MATCH(0,COUNTIF($AC$1:AC6,Plate7)+(Model<>model!$A$2)+(Height<>model!$C$2)+(Width<>model!$D$2)+(Depth<>model!$E$2),0))","v":{"$error":"#N/A"}},6,{"$f":"INDEX(Rail,MATCH(0,COUNTIF($AE$1:AE6,Rail)+(Model<>model!$A$2)+(Height<>model!$C$2)+(Width<>model!$D$2)+(Depth<>model!$E$2),0))","v":{"$error":"#N/A"}},6,{"$f":"INDEX(PanelPPN,MATCH(0,COUNTIF($AG$1:AG6,PanelPPN)+(Model<>model!$A$2)+(Height<>model!$C$2)+(Width<>model!$D$2)+(Depth<>model!$E$2),0))","v":{"$error":"#N/A"}},6,{"$f":"INDEX(Cokol,MATCH(0,COUNTIF($AI$1:AI6,Cokol)+(Model<>model!$A$2)+(Height<>model!$C$2)+(Width<>model!$D$2)+(Depth<>model!$E$2),0))","v":{"$error":"#N/A"}},6,null,{"$f":"IFERROR(INDEX(model!$Z$3:$Z$15,MATCH(1,COUNTIF($AL$4:AL6,model!$Z$3:$Z$15)+(model!$Z$3:$Z$15<>\"0\"),0)),\"\")","v":""},{"$f":"IFERROR(VLOOKUP(AL7,nom!A:B,2,0),\"\")","v":""},{"$f":"IFERROR(INDEX(model!$Y$3:$Z$15,MATCH(Unique!AL7,model!$Z$3:$Z$15,0),1),\"\")","v":""}]
["ЩМП напольный IP31",7,{"$f":"INDEX(Height,MATCH(0,COUNTIF($C$1:C7,Height)+(Model<>model!$A$2),0))","v":{"$error":"#N/A"}},7,{"$f":"INDEX(Width,MATCH(0,COUNTIF($E$1:E7,Width)+(Model<>model!$A$2)+(Height<>model!$C$2),0))","v":{"$error":"#N/A"}},7,{"$f":"INDEX(Depth,MATCH(0,COUNTIF($G$1:G7,Depth)+(Model<>model!$A$2)+(Height<>model!$C$2)+(Width<>model!$D$2),0))","v":{"$error":"#N/A"}},7,{"$f":"INDEX(Frame,MATCH(0,COUNTIF($I$1:I7,Frame)+(Model<>model!$A$2)+(Height<>model!$C$2)+(Width<>model!$D$2)+(Depth<>model!$E$2),0))","v":{"$error":"#N/A"}},7,{"$f":"INDEX(Panel,MATCH(0,COUNTIF($K$1:K7,Panel)+(Model<>model!$A$2)+(Height<>model!$C$2)+(Width<>model!$D$2)+(Depth<>model!$E$2),0))","v":{"$error":"#N/A"}},7,{"$f":"INDEX(Profile,MATCH(0,COUNTIF($M$1:M7,Profile)+(Model<>model!$A$2)+(Height<>model!$C$2)+(Width<>model!$D$2)+(Depth<>model!$E$2),0))","v":{"$error":"#N/A"}},7,{"$f":"INDEX(PProfil,MATCH(0,COUNTIF($O$1:O7,PProfil)+(Model<>model!$A$2)+(Height<>model!$C$2)+(Width<>model!$D$2)+(Depth<>model!$E$2),0))","v":{"$error":"#N/A"}},7,{"$f":"INDEX(Plate1,MATCH(0,COUNTIF($Q$1:Q7,Plate1)+(Model<>model!$A$2)+(Height<>model!$C$2)+(Width<>model!$D$2)+(Depth<>model!$E$2),0))","v":{"$error":"#N/A"}},7,{"$f":"INDEX(Plate2,MATCH(0,COUNTIF($S$1:S7,Plate2)+(Model<>model!$A$2)+(Height<>model!$C$2)+(Width<>model!$D$2)+(Depth<>model!$E$2),0))","v":{"$error":"#N/A"}},7,{"$f":"INDEX(Plate3,MATCH(0,COUNTIF($U$1:U7,Plate3)+(Model<>model!$A$2)+(Height<>model!$C$2)+(Width<>model!$D$2)+(Depth<>model!$E$2),0))","v":{"$error":"#N/A"}},7,{"$f":"INDEX(Plate4,MATCH(0,COUNTIF($W$1:W7,Plate4)+(Model<>model!$A$2)+(Height<>model!$C$2)+(Width<>model!$D$2)+(Depth<>model!$E$2),0))","v":{"$error":"#N/A"}},7,{"$f":"INDEX(Plate5,MATCH(0,COUNTIF($Y$1:Y7,Plate5)+(Model<>model!$A$2)+(Height<>model!$C$2)+(Width<>model!$D$2)+(Depth<>model!$E$2),0))","v":{"$error":"#N/A"}},7,{"$f":"INDEX(Plate6,MATCH(0,COUNTIF($AA$1:AA7,Plate6)+(Model<>model!$A$2)+(Height<>model!$C$2)+(Width<>model!$D$2)+(Depth<>model!$E$2),0))","v":{"$error":"#N/A"}},7,{"$f":"INDEX(Plate7,MATCH(0,COUNTIF($AC$1:AC7,Plate7)+(Model<>model!$A$2)+(Height<>model!$C$2)+(Width<>model!$D$2)+(Depth<>model!$E$2),0))","v":{"$error":"#N/A"}},7,{"$f":"INDEX(Rail,MATCH(0,COUNTIF($AE$1:AE7,Rail)+(Model<>model!$A$2)+(Height<>model!$C$2)+(Width<>model!$D$2)+(Depth<>model!$E$2),0))","v":{"$error":"#N/A"}},7,{"$f":"INDEX(PanelPPN,MATCH(0,COUNTIF($AG$1:AG7,PanelPPN)+(Model<>model!$A$2)+(Height<>model!$C$2)+(Width<>model!$D$2)+(Depth<>model!$E$2),0))","v":{"$error":"#N/A"}},7,{"$f":"INDEX(Cokol,MATCH(0,COUNTIF($AI$1:AI7,Cokol)+(Model<>model!$A$2)+(Height<>model!$C$2)+(Width<>model!$D$2)+(Depth<>model!$E$2),0))","v":{"$error":"#N/A"}},7,null,{"$f":"IFERROR(INDEX(model!$Z$3:$Z$15,MATCH(1,COUNTIF($AL$4:AL7,model!$Z$3:$Z$15)+(model!$Z$3:$Z$15<>\"0\"),0)),\"\")","v":""},{"$f":"IFERROR(VLOOKUP(AL8,nom!A:B,2,0),\"\")","v":""},{"$f":"IFERROR(INDEX(model!$Y$3:$Z$15,MATCH(Unique!AL8,model!$Z$3:$Z$15,0),1),\"\")","v":""}]
["ЩМП напольный IP54",8,{"$f":"INDEX(Height,MATCH(0,COUNTIF($C$1:C8,Height)+(Model<>model!$A$2),0))","v":{"$error":"#N/A"}},8,{"$f":"INDEX(Width,MATCH(0,COUNTIF($E$1:E8,Width)+(Model<>model!$A$2)+(Height<>model!$C$2),0))","v":{"$error":"#N/A"}},8,{"$f":"INDEX(Depth,MATCH(0,COUNTIF($G$1:G8,Depth)+(Model<>model!$A$2)+(Height<>model!$C$2)+(Width<>model!$D$2),0))","v":{"$error":"#N/A"}},8,{"$f":"INDEX(Frame,MATCH(0,COUNTIF($I$1:I8,Frame)+(Model<>model!$A$2)+(Height<>model!$C$2)+(Width<>model!$D$2)+(Depth<>model!$E$2),0))","v":{"$error":"#N/A"}},8,{"$f":"INDEX(Panel,MATCH(0,COUNTIF($K$1:K8,Panel)+(Model<>model!$A$2)+(Height<>model!$C$2)+(Width<>model!$D$2)+(Depth<>model!$E$2),0))","v":{"$error":"#N/A"}},8,{"$f":"INDEX(Profile,MATCH(0,COUNTIF($M$1:M8,Profile)+(Model<>model!$A$2)+(Height<>model!$C$2)+(Width<>model!$D$2)+(Depth<>model!$E$2),0))","v":{"$error":"#N/A"}},8,{"$f":"INDEX(PProfil,MATCH(0,COUNTIF($O$1:O8,PProfil)+(Model<>model!$A$2)+(Height<>model!$C$2)+(Width<>model!$D$2)+(Depth<>model!$E$2),0))","v":{"$error":"#N/A"}},8,{"$f":"INDEX(Plate1,MATCH(0,COUNTIF($Q$1:Q8,Plate1)+(Model<>model!$A$2)+(Height<>model!$C$2)+(Width<>model!$D$2)+(Depth<>model!$E$2),0))","v":{"$error":"#N/A"}},8,{"$f":"INDEX(Plate2,MATCH(0,COUNTIF($S$1:S8,Plate2)+(Model<>model!$A$2)+(Height<>model!$C$2)+(Width<>model!$D$2)+(Depth<>model!$E$2),0))","v":{"$error":"#N/A"}},8,{"$f":"INDEX(Plate3,MATCH(0,COUNTIF($U$1:U8,Plate3)+(Model<>model!$A$2)+(Height<>model!$C$2)+(Width<>model!$D$2)+(Depth<>model!$E$2),0))","v":{"$error":"#N/A"}},8,{"$f":"INDEX(Plate4,MATCH(0,COUNTIF($W$1:W8,Plate4)+(Model<>model!$A$2)+(Height<>model!$C$2)+(Width<>model!$D$2)+(Depth<>model!$E$2),0))","v":{"$error":"#N/A"}},8,{"$f":"INDEX(Plate5,MATCH(0,COUNTIF($Y$1:Y8,Plate5)+(Model<>model!$A$2)+(Height<>model!$C$2)+(Width<>model!$D$2)+(Depth<>model!$E$2),0))","v":{"$error":"#N/A"}},8,{"$f":"INDEX(Plate6,MATCH(0,COUNTIF($AA$1:AA8,Plate6)+(Model<>model!$A$2)+(Height<>model!$C$2)+(Width<>model!$D$2)+(Depth<>model!$E$2),0))","v":{"$error":"#N/A"}},8,{"$f":"INDEX(Plate7,MATCH(0,COUNTIF($AC$1:AC8,Plate7)+(Model<>model!$A$2)+(Height<>model!$C$2)+(Width<>model!$D$2)+(Depth<>model!$E$2),0))","v":{"$error":"#N/A"}},8,{"$f":"INDEX(Rail,MATCH(0,COUNTIF($AE$1:AE8,Rail)+(Model<>model!$A$2)+(Height<>model!$C$2)+(Width<>model!$D$2)+(Depth<>model!$E$2),0))","v":{"$error":"#N/A"}},8,{"$f":"INDEX(PanelPPN,MATCH(0,COUNTIF($AG$1:AG8,PanelPPN)+(Model<>model!$A$2)+(Height<>model!$C$2)+(Width<>model!$D$2)+(Depth<>model!$E$2),0))","v":{"$error":"#N/A"}},8,{"$f":"INDEX(Cokol,MATCH(0,COUNTIF($AI$1:AI8,Cokol)+(Model<>model!$A$2)+(Height<>model!$C$2)+(Width<>model!$D$2)+(Depth<>model!$E$2),0))","v":{"$error":"#N/A"}},8,null,{"$f":"IFERROR(INDEX(model!$Z$3:$Z$15,MATCH(1,COUNTIF($AL$4:AL8,model!$Z$3:$Z$15)+(model!$Z$3:$Z$15<>\"0\"),0)),\"\")","v":""},{"$f":"IFERROR(VLOOKUP(AL9,nom!A:B,2,0),\"\")","v":""},{"$f":"IFERROR(INDEX(model!$Y$3:$Z$15,MATCH(Unique!AL9,model!$Z$3:$Z$15,0),1),\"\")","v":""}]
["ЩО-70 Unit",9,{"$f":"INDEX(Height,MATCH(0,COUNTIF($C$1:C9,Height)+(Model<>model!$A$2),0))","v":{"$error":"#N/A"}},9,{"$f":"INDEX(Width,MATCH(0,COUNTIF($E$1:E9,Width)+(Model<>model!$A$2)+(Height<>model!$C$2),0))","v":{"$error":"#N/A"}},9,{"$f":"INDEX(Depth,MATCH(0,COUNTIF($G$1:G9,Depth)+(Model<>model!$A$2)+(Height<>model!$C$2)+(Width<>model!$D$2),0))","v":{"$error":"#N/A"}},9,{"$f":"INDEX(Frame,MATCH(0,COUNTIF($I$1:I9,Frame)+(Model<>model!$A$2)+(Height<>model!$C$2)+(Width<>model!$D$2)+(Depth<>model!$E$2),0))","v":{"$error":"#N/A"}},9,{"$f":"INDEX(Panel,MATCH(0,COUNTIF($K$1:K9,Panel)+(Model<>model!$A$2)+(Height<>model!$C$2)+(Width<>model!$D$2)+(Depth<>model!$E$2),0))","v":{"$error":"#N/A"}},9,{"$f":"INDEX(Profile,MATCH(0,COUNTIF($M$1:M9,Profile)+(Model<>model!$A$2)+(Height<>model!$C$2)+(Width<>model!$D$2)+(Depth<>model!$E$2),0))","v":{"$error":"#N/A"}},9,{"$f":"INDEX(PProfil,MATCH(0,COUNTIF($O$1:O9,PProfil)+(Model<>model!$A$2)+(Height<>model!$C$2)+(Width<>model!$D$2)+(Depth<>model!$E$2),0))","v":{"$error":"#N/A"}},9,{"$f":"INDEX(Plate1,MATCH(0,COUNTIF($Q$1:Q9,Plate1)+(Model<>model!$A$2)+(Height<>model!$C$2)+(Width<>model!$D$2)+(Depth<>model!$E$2),0))","v":{"$error":"#N/A"}},9,{"$f":"INDEX(Plate2,MATCH(0,COUNTIF($S$1:S9,Plate2)+(Model<>model!$A$2)+(Height<>model!$C$2)+(Width<>model!$D$2)+(Depth<>model!$E$2),0))","v":{"$error":"#N/A"}},9,{"$f":"INDEX(Plate3,MATCH(0,COUNTIF($U$1:U9,Plate3)+(Model<>model!$A$2)+(Height<>model!$C$2)+(Width<>model!$D$2)+(Depth<>model!$E$2),0))","v":{"$error":"#N/A"}},9,{"$f":"INDEX(Plate4,MATCH(0,COUNTIF($W$1:W9,Plate4)+(Model<>model!$A$2)+(Height<>model!$C$2)+(Width<>model!$D$2)+(Depth<>model!$E$2),0))","v":{"$error":"#N/A"}},9,{"$f":"INDEX(Plate5,MATCH(0,COUNTIF($Y$1:Y9,Plate5)+(Model<>model!$A$2)+(Height<>model!$C$2)+(Width<>model!$D$2)+(Depth<>model!$E$2),0))","v":{"$error":"#N/A"}},9,{"$f":"INDEX(Plate6,MATCH(0,COUNTIF($AA$1:AA9,Plate6)+(Model<>model!$A$2)+(Height<>model!$C$2)+(Width<>model!$D$2)+(Depth<>model!$E$2),0))","v":{"$error":"#N/A"}},9,{"$f":"INDEX(Plate7,MATCH(0,COUNTIF($AC$1:AC9,Plate7)+(Model<>model!$A$2)+(Height<>model!$C$2)+(Width<>model!$D$2)+(Depth<>model!$E$2),0))","v":{"$error":"#N/A"}},9,{"$f":"INDEX(Rail,MATCH(0,COUNTIF($AE$1:AE9,Rail)+(Model<>model!$A$2)+(Height<>model!$C$2)+(Width<>model!$D$2)+(Depth<>model!$E$2),0))","v":{"$error":"#N/A"}},9,{"$f":"INDEX(PanelPPN,MATCH(0,COUNTIF($AG$1:AG9,PanelPPN)+(Model<>model!$A$2)+(Height<>model!$C$2)+(Width<>model!$D$2)+(Depth<>model!$E$2),0))","v":{"$error":"#N/A"}},9,{"$f":"INDEX(Cokol,MATCH(0,COUNTIF($AI$1:AI9,Cokol)+(Model<>model!$A$2)+(Height<>model!$C$2)+(Width<>model!$D$2)+(Depth<>model!$E$2),0))","v":{"$error":"#N/A"}},9,null,{"$f":"IFERROR(INDEX(model!$Z$3:$Z$15,MATCH(1,COUNTIF($AL$4:AL9,model!$Z$3:$Z$15)+(model!$Z$3:$Z$15<>\"0\"),0)),\"\")","v":""},{"$f":"IFERROR(VLOOKUP(AL10,nom!A:B,2,0),\"\")","v":""},{"$f":"IFERROR(INDEX(model!$Y$3:$Z$15,MATCH(Unique!AL10,model!$Z$3:$Z$15,0),1),\"\")","v":""}]
[null,null,null,null,null,null,null,null,null,null,null,null,null,null,null,null,null,null,null,null,null,null,null,null,null,null,null,null,null,null,null,null,null,null,null,null,null,{"$f":"IFERROR(INDEX(model!$Z$3:$Z$15,MATCH(1,COUNTIF($AL$4:AL10,model!$Z$3:$Z$15)+(model!$Z$3:$Z$15<>\"0\"),0)),\"\")","v":""},{"$f":"IFERROR(VLOOKUP(AL11,nom!A:B,2,0),\"\")","v":""},{"$f":"IFERROR(INDEX(model!$Y$3:$Z$15,MATCH(Unique!AL11,model!$Z$3:$Z$15,0),1),\"\")","v":""}]
[null,null,null,null,null,null,null,null,null,null,null,null,null,null,null,null,null,null,null,null,null,null,null,null,null,null,null,null,null,null,null,null,null,null,null,null,null,{"$f":"IFERROR(INDEX(model!$Z$3:$Z$15,MATCH(1,COUNTIF($AL$4:AL11,model!$Z$3:$Z$15)+(model!$Z$3:$Z$15<>\"0\"),0)),\"\")","v":""},{"$f":"IFERROR(VLOOKUP(AL12,nom!A:B,2,0),\"\")","v":""},{"$f":"IFERROR(INDEX(model!$Y$3:$Z$15,MATCH(Unique!AL12,model!$Z$3:$Z$15,0),1),\"\")","v":""}]
[null,null,null,null,null,null,null,null,null,null,null,null,null,null,null,null,null,null,null,null,null,null,null,null,null,null,null,null,null,null,null,null,null,null,null,null,null,{"$f":"IFERROR(INDEX(model!$Z$3:$Z$15,MATCH(1,COUNTIF($AL$4:AL12,model!$Z$3:$Z$15)+(model!$Z$3:$Z$15<>\"0\"),0)),\"\")","v":""},{"$f":"IFERROR(VLOOKUP(AL13,nom!A:B,2,0),\"\")","v":""},{"$f":"IFERROR(INDEX(model!$Y$3:$Z$15,MATCH(Unique!AL13,model!$Z$3:$Z$15,0),1),\"\")","v":""}]
[null,null,null,null,null,null,null,null,null,null,null,null,null,null,null,null,null,null,null,null,null,null,null,null,null,null,null,null,null,null,null,null,null,null,null,null,null,{"$f":"IFERROR(INDEX(model!$Z$3:$Z$15,MATCH(1,COUNTIF($AL$4:AL13,model!$Z$3:$Z$15)+(model!$Z$3:$Z$15<>\"0\"),0)),\"\")","v":""},{"$f":"IFERROR(VLOOKUP(AL14,nom!A:B,2,0),\"\")","v":""},{"$f":"IFERROR(INDEX(model!$Y$3:$Z$15,MATCH(Unique!AL14,model!$Z$3:$Z$15,0),1),\"\")","v":""}]
[null,null,null,null,null,null,null,null,null,null,null,null,null,null,null,null,null,null,null,null,null,null,null,null,null,null,null,null,null,null,null,null,null,null,null,null,null,{"$f":"IFERROR(INDEX(model!$Z$3:$Z$15,MATCH(1,COUNTIF($AL$4:AL14,model!$Z$3:$Z$15)+(model!$Z$3:$Z$15<>\"0\"),0)),\"\")","v":""},{"$f":"IFERROR(VLOOKUP(AL15,nom!A:B,2,0),\"\")","v":""},{"$f":"IFERROR(INDEX(model!$Y$3:$Z$15,MATCH(Unique!AL15,model!$Z$3:$Z$15,0),1),\"\")","v":""}]
[null,null,null,null,null,null,null,null,null,null,null,null,null,null,null,null,null,null,null,null,null,null,null,null,null,null,null,null,null,null,null,null,null,null,null,null,null,{"$f":"IFERROR(INDEX(model!$Z$3:$Z$15,MATCH(1,COUNTIF($AL$4:AL15,model!$Z$3:$Z$15)+(model!$Z$3:$Z$15<>\"0\"),0)),\"\")","v":""},{"$f":"IFERROR(VLOOKUP(AL16,nom!A:B,2,0),\"\")","v":""},{"$f":"IFERROR(INDEX(model!$Y$3:$Z$15,MATCH(Unique!AL16,model!$Z$3:$Z$15,0),1),\"\")","v":""}]
[null,null,null,null,null,null,null,null,null,null,null,null,null,null,null,null,null,null,null,null,null,null,null,null,null,null,null,null,null,null,null,null,null,null,null,null,null,{"$f":"IFERROR(INDEX(model!$Z$3:$Z$15,MATCH(1,COUNTIF($AL$4:AL16,model!$Z$3:$Z$15)+(model!$Z$3:$Z$15<>\"0\"),0)),\"\")","v":""},{"$f":"IFERROR(VLOOKUP(AL17,nom!A:B,2,0),\"\")","v":""},{"$f":"IFERROR(INDEX(model!$Y$3:$Z$15,MATCH(Unique!AL17,model!$Z$3:$Z$15,0),1),\"\")","v":""}]
[null,null,null,null,null,null,null,null,null,null,null,null,null,null,null,null,null,null,null,null,null,null,null,null,null,null,null,null,null,null,null,null,null,null,null,null,null,{"$f":"IFERROR(INDEX(model!$Z$3:$Z$15,MATCH(1,COUNTIF($AL$4:AL17,model!$Z$3:$Z$15)+(model!$Z$3:$Z$15<>\"0\"),0)),\"\")","v":""},{"$f":"IFERROR(VLOOKUP(AL18,nom!A:B,2,0),\"\")","v":""},{"$f":"IFERROR(INDEX(model!$Y$3:$Z$15,MATCH(Unique!AL18,model!$Z$3:$Z$15,0),1),\"\")","v":""}]

{"sheet":"nom","index":4,"n_rows":107,"n_cols":4,"rows_kept":107,"cut":false,"hidden":true,"merged":[]}
["Артикул","Номенклатура","Высота платы","Номер рисунка"]
["mb09-01-01","Каркас ВРУ-1 Unit R разборный (1800х450х450)  IP31 EKF PROxima",null,1]
["mb09-01-02","Каркас ВРУ-1 Unit R разборный (1800х600х450)  IP31 EKF PROxima",null,1]
["mb09-01-03","Каркас ВРУ-1 Unit R разборный (1800х800х450)  IP31 EKF PROxima",null,1]
["mb09-01-04","Каркас ВРУ-1 Unit R разборный (2000х450х450)  IP31 EKF PROxima",null,1]
["mb09-01-05","Каркас ВРУ-1 Unit R разборный (2000х600х450)  IP31 EKF PROxima",null,1]
["mb09-01-06","Каркас ВРУ-1 Unit R разборный (2000х800х450)  IP31 EKF PROxima",null,1]
["mb15-04-00m","Каркас ВРУ-1 Unit S сварной IP31 (1800х450х450) EKF PROxima",null,1]
["mb15-05-00m","Каркас ВРУ-1 Unit S сварной IP31 (1800х600х450) EKF PROxima",null,1]
["mb15-06-00m","Каркас ВРУ-1 Unit S сварной IP31 (1800х800х450) EKF PROxima",null,1]
["mb15-07-00m","Каркас ВРУ-1 Unit S сварной IP31 (2000х450х450) EKF PROxima",null,1]
["mb15-08-00m","Каркас ВРУ-1 Unit S сварной IP31 (2000х600х450) EKF PROxima",null,1]
["mb15-09-00m","Каркас ВРУ-1 Unit S сварной IP31 (2000х800х450) EKF PROxima",null,1]
["mb-18-60-60n","Каркас ВРУ-1 Unit S сварной  (1800х600х600)  IP31 EKF PROxima",null,1]
["mb-18-80-60n","Каркас ВРУ-1 Unit S сварной  (1800х800х600)  IP31 EKF PROxima",null,1]
["mb-20-60-60n","Каркас ВРУ-1 Unit S сварной  (2000х600х600)  IP31 EKF PROxima",null,1]
["mb-20-80-60n","Каркас ВРУ-1 Unit S сварной  (2000х800х600)  IP31 EKF PROxima",null,1]
["mb15-05-54m","Каркас ВРУ-1 Unit S сварной IP54 (1800х600х450) EKF PROxima",null,2]
["mb-18-80-45m","Каркас ВРУ-1 Unit S сварной IP54 (1800х800х450) EKF PROxima",null,2]
["mb15-20-60m","Каркас ВРУ-1 Unit S сварной IP54 (2000х600х450) EKF PROxima",null,2]
["mb15-09-54m","Каркас ВРУ-1 Unit S сварной IP54 (2000х800х450) EKF PROxima",null,2]
["mb22-8","Щит с монтажной панелью ЩМП-160.60.40 (ЩРНМ-8) IP31",null,4]
["mb22-8L","Щит с монтажной панелью ЩМП-160.80.40 (ЩРНМ-8L) IP31",null,4]
["mb22-9","Щит с монтажной панелью ЩМП-180.60.40 (ЩРНМ-9) IP31",null,4]
["mb22-9L","Щит с монтажной панелью ЩМП-180.80.40 (ЩРНМ-9L) IP31",null,4]
["mb24-8","Щит с монтажной панелью ЩМПг-160.60.40 (ЩРНМ-8) IP54",null,5]
["mb24-8L","Щит с монтажной панелью ЩМПг-160.80.40 (ЩРНМ-8L) IP54",null,5]
["mb24-9S","Щит с монтажной панелью ЩМПг-180.60.40 (ЩРНМ-9) IP54",null,5]
["mb24-9LS","Щит с монтажной панелью ЩМПг-180.80.40 (ЩРНМ-9L) IP54",null,5]
["mb09-03-01","Боковая панель для ВРУ-1 (1800хШх450) Unit R разборного EKF PROxima (2шт)","(* в 1 комплекте 2 штуки)",8]
["mb09-03-02","Боковая панель для ВРУ-1 (2000хШх450) Unit R разборного EKF PROxima (2шт)","(* в 1 комплекте 2 штуки)",8]
["mb15-07-01m","Боковая панель для ВРУ-1 и ВРУ-2 (1800хШх450) Unit S сварная EKF PROxima",null,8]
["mb15-04-01m","Боковая панель для ВРУ-1 и ВРУ-2 (2000хШх450) Unit S сварная EKF PROxima",null,8]
["mb15-07-06m","Боковая панель для ВРУ-1 (1800хШх600) Unit S сварного и ЩО-70 EKF PROxima",null,8]
["mb15-04-06m","Боковая панель для ВРУ (2000хШх600) Unit S сварного EKF PROxima",null,8]
["mb15-07-02","Вертикальный профиль для ВРУ Unit S и R и ЩО-70 (1800хШхГ) EKF PROxima",null,9]
["mb15-04-05","Вертикальный профиль для ВРУ Unit S и R (2000хШхГ) EKF PROxima",null,9]
["pv-1560","Профиль вертикальный оцинкованный 1560мм (ЩРНМ-8)",1560,9]
["pv-1760","Профиль вертикальный оцинкованный 1760мм (ЩРНМ-9)",1760,9]
["mb15-07-02p","Вертикальный П-образный профиль для ВРУ Unit и ЩО-70 (1800хШхГ) EKF PROxima",null,10]
["mb15-04-05p","Вертикальный П-образный профиль для ВРУ Unit (2000хШхГ) EKF PROxima",null,10]
["mb15-04-03","Панель монтажная (360х160) к ВРУ Unit (Вх450хГ) EKF PROxima",160,11]
["mb15-06-01-02","Панель монтажная (510х160) к ВРУ Unit (Вх600хГ) EKF PROxima",160,11]
["mb15-08-01-02","Панель монтажная (710х160) к ВРУ Unit и ЩО-70 (Вх800хГ) EKF PROxima",160,11]
["pm-300x545","Панель монтажная оцинкованная (300x545мм) (ЩРНМ-8, ЩРНМ-9) EKF PROxima",300,11]
["pm-300x745","Панель монтажная оцинкованная (300x745мм) (ЩРНМ-8L, ЩРНМ-9L) EKF PROxima",300,11]
["mb15-04-04","Панель монтажная (360х220) к ВРУ Unit (Вх450хГ) EKF PROxima",220,11]
["mb15-05-04","Панель монтажная (510х220) к ВРУ Unit (Вх600хГ) EKF PROxima",220,11]
["mb15-08-02-01","Панель монтажная (710х220) к ВРУ Unit и ЩО-70 (Вх800хГ) EKF PROxima",220,11]
["pm-500x545","Панель монтажная оцинкованная (500x545мм) (ЩРНМ-8, ЩРНМ-9) EKF PROxima",500,11]
["pm-500x745","Панель монтажная оцинкованная (500x745мм) (ЩРНМ-8L, ЩРНМ-9L) EKF PROxima",500,11]
["mb15-08-01-04","Панель монтажная (360х480) к ВРУ Unit (Вх450хГ) EKF PROxima",480,11]
["mb15-08-01-05","Панель монтажная (510х480) к ВРУ Unit (Вх600хГ) EKF PROxima",480,11]
["mb15-08-01-06","Панель монтажная (710х480) к ВРУ Unit и ЩО-70 (Вх800хГ) EKF PROxima",480,11]
["mb15-04-03s","Панель монтажная (360х160х2,5) к ВРУ Unit (Вх450хГ) EKF PROxima",160,11]
["mb15-06-01-02s","Панель монтажная (510х160х2,5) к ВРУ Unit (Вх600хГ) EKF PROxima",160,11]
["mb15-08-01-02s","Панель монтажная (160х710х2,5) к ВРУ Unit и ЩО-70 (Bх800хГ) EKF PROxima",160,11]
["pm-300x540s","Панель монтажная (300x540х2,5)(ЩРНМ-8, ЩРНМ-9)EKF PROxima",300,11]
["pm-300x740s","Панель монтажная (300x740х2,5)(ЩРНМ-8L, ЩРНМ-9L)EKF PROxima",300,11]
["mb15-04-04s","Панель монтажная (360х220х2,5) к ВРУ Unit (Вх450хГ) EKF PROxima",220,11]
["mb15-05-04s","Панель монтажная (510х220х2,5) к ВРУ Unit (Вх600хГ) EKF PROxima",220,11]
["mb15-08-02-01s","Панель монтажная (220х710х2,5) к ВРУ Unit и ЩО-70 (Bх800хГ) EKF PROxima",220,11]
["pm-500x540s","Панель монтажная (500x540х2,5)(ЩРНМ-8, ЩРНМ-9)EKF PROxima",500,11]
["pm-500x740s","Панель монтажная (500x740х2,5)(ЩРНМ-8L, ЩРНМ-9L)EKF PROxima",500,11]
["mb15-08-01-04s","Панель монтажная (360х480х2,5) к ВРУ Unit (Вх450хГ) EKF PROxima",480,11]
["mb15-08-01-05s","Панель монтажная (510х480х2,5) к ВРУ Unit (Вх600хГ) EKF PROxima",480,11]
["mb15-08-01-06s","Панель монтажная (480х710х2,5) к ВРУ Unit и ЩО-70 (Bх800хГ) EKF PROxima",480,11]
["pm-1560x540s","Панель монтажная (1560x540х2,5) (ЩРНМ-8)EKF PROxima",1560,8]
["pm-1560x740s","Панель монтажная (1560x740х2,5)(ЩРНМ-8L) EKF PROxima",1560,8]
["pm-1760x540s","Панель монтажная (1760x540х2,5) (ЩРНМ-9)EKF PROxima",1760,8]
["pm-1760x740s","Панель монтажная (1760x740х2,5) (ЩРНМ-9L) EKF PROxima",1760,8]
["mb15-16-45s","Панель монт.(1600х360х2,5)к ВРУ Unit(1800х450хГ)EKF PROxima",1600,8]
["mb15-16-51s","Панель монт.(1600х510х2,5)к ВРУ Unit(1800х600хГ)EKF PROxima",1600,8]
["mb15-16-71s","Панель монт.(1600х710х2,5) к ВРУ Unit и ЩО-70 (1800х800хГ) EKF PROxima",1600,8]
["mb15-18-45s","Панель монт.(1800х360х2,5)к ВРУ Unit(2000х450хГ)EKF PROxima",1800,8]
["mb15-18-51s","Панель монт.(1800х510х2,5)к ВРУ Unit(2000х600хГ)EKF PROxima",1800,8]
["mb15-18-71s","Панель монт.(1800х710х2,5)к ВРУ Unit(2000х800хГ)EKF PROxima",1800,8]
["mb15-04-02","Рейка монтажная (360х55) перфорированная к ВРУ Unit (Вх450хГ) EKF PROxima",null,12]
["mb15-05-02","Рейка монтажная (510х55) перфорированная к ВРУ Unit (Вх600хГ) EKF PROxima",null,12]
["mb15-06-02","Рейка монтажная (710х55) перфорированная к ВРУ Unit и ЩО-70 (Вх800хГ) EKF PROxima",null,12]
["po-30x545","Планка оцинкованная 30x545мм (ЩРНМ-8, ЩРНМ-9)",null,12]
["po-30x745","Планка оцинкованная 30x745мм (ЩРНМ-8L, ЩРНМ-9L)",null,12]
["mb15-08-01-07","Панель под ППН к ВРУ Unit (Вх450хГ) EKF PROxima",null,13]
["mb15-08-01-08","Панель под ППН к ВРУ Unit (Вх600хГ) EKF PROxima",null,13]
["mb15-08-01-09","Панель под ППН к ВРУ Unit и ЩО-70 (Вх800хГ) EKF PROxima",null,13]
["ppn-140x545","Панель ПН оцинкованная 140x545мм (ЩРНМ-8, ЩРНМ-9)",null,13]
["ppn-140x745","Панель ПН оцинкованная 140x745мм (ЩРНМ-8L, ЩРНМ-9L)",null,13]
["mb15-08-02-03","Цоколь к ВРУ Unit S IP31 (Вх450х450) EKF PROxima",null,14]
["mb15-08-02-04","Цоколь к ВРУ Unit S IP31 (Вх600х450) EKF PROxima",null,14]
["mb15-08-02-05","Цоколь к ВРУ Unit S IP31 (Вх800х450) EKF PROxima",null,14]
["mb15-08-02-06","Цоколь к ВРУ Unit S IP31 (Вх600х600) EKF PROxima",null,14]
["mb15-08-02-07","Цоколь к ВРУ Unit S IP31 (Вх800х600) EKF PROxima",null,14]
["c-100x600","Цоколь 100х600х400мм (ЩРНМ-8, ЩРНМ-9)",null,15]
["c-100x800","Цоколь 100х800х400мм (ЩРНМ-8L, ЩРНМ-9L)",null,15]
["mb-05-07-01","Корпус ЩО-70 Unit сварной (1800х800х600) EKF PROxima",null,3]
["mb15-10-00m","Каркас ВРУ-2 Unit S сварной IP31 (1800х450х450) EKF PROxima",null,6]
["mb15-11-00m","Каркас ВРУ-2 Unit S сварной IP31 (1800х600х450) EKF PROxima",null,6]
["mb15-12-00m","Каркас ВРУ-2 Unit S сварной IP31 (1800х800х450) EKF PROxima",null,6]
["mb15-13-00m","Каркас ВРУ-2 Unit S сварной IP31 (2000х450х450) EKF PROxima",null,6]
["mb15-14-00m","Каркас ВРУ-2 Unit S сварной IP31 (2000х600х450) EKF PROxima",null,6]
["mb15-15-01m","Каркас ВРУ-2 Unit S сварной IP31 (2000х800х450) EKF PROxima",null,6]
["mb15-13-54m","Каркас ВРУ-2 Unit S сварной IP54 (1800х450х450) EKF PROxima",null,7]
["mb15-11-54m","Каркас ВРУ-2 Unit S сварной IP54 (1800х600х450) EKF PROxima",null,7]
["mb15-12-54m","Каркас ВРУ-2 Unit S сварной IP54 (1800х800х450) EKF PROxima",null,7]
["mb-15-14-54m","Каркас ВРУ-2 Unit S сварной IP54 (2000х450х450) EKF PROxima",null,7]
["mb15-16-54m","Каркас ВРУ-2 Unit S сварной IP54 (2000х600х450) EKF PROxima",null,7]
["mb15-15-54m","Каркас ВРУ-2 Unit S сварной IP54 (2000х800х450) EKF PROxima",null,7]